BEGIN:VCALENDAR
VERSION:2.0
PRODID:-//Women&#039;s Wilderness Weekend of RI - ECPv6.15.20//NONSGML v1.0//EN
CALSCALE:GREGORIAN
METHOD:PUBLISH
X-WR-CALNAME:Women&#039;s Wilderness Weekend of RI
X-ORIGINAL-URL:https://www.womenswildernessri.com
X-WR-CALDESC:Events for Women&#039;s Wilderness Weekend of RI
REFRESH-INTERVAL;VALUE=DURATION:PT1H
X-Robots-Tag:noindex
X-PUBLISHED-TTL:PT1H
BEGIN:VTIMEZONE
TZID:America/New_York
BEGIN:DAYLIGHT
TZOFFSETFROM:-0500
TZOFFSETTO:-0400
TZNAME:EDT
DTSTART:20250309T070000
END:DAYLIGHT
BEGIN:STANDARD
TZOFFSETFROM:-0400
TZOFFSETTO:-0500
TZNAME:EST
DTSTART:20251102T060000
END:STANDARD
BEGIN:DAYLIGHT
TZOFFSETFROM:-0500
TZOFFSETTO:-0400
TZNAME:EDT
DTSTART:20260308T070000
END:DAYLIGHT
BEGIN:STANDARD
TZOFFSETFROM:-0400
TZOFFSETTO:-0500
TZNAME:EST
DTSTART:20261101T060000
END:STANDARD
BEGIN:DAYLIGHT
TZOFFSETFROM:-0500
TZOFFSETTO:-0400
TZNAME:EDT
DTSTART:20270314T070000
END:DAYLIGHT
BEGIN:STANDARD
TZOFFSETFROM:-0400
TZOFFSETTO:-0500
TZNAME:EST
DTSTART:20271107T060000
END:STANDARD
BEGIN:DAYLIGHT
TZOFFSETFROM:-0500
TZOFFSETTO:-0400
TZNAME:EDT
DTSTART:20280312T070000
END:DAYLIGHT
BEGIN:STANDARD
TZOFFSETFROM:-0400
TZOFFSETTO:-0500
TZNAME:EST
DTSTART:20281105T060000
END:STANDARD
END:VTIMEZONE
BEGIN:VEVENT
DTSTART;TZID=America/New_York:20260501T170000
DTEND;TZID=America/New_York:20260503T140000
DTSTAMP:20260423T172930
CREATED:20251127T010611Z
LAST-MODIFIED:20251127T010611Z
UID:1748-1777654800-1777816800@www.womenswildernessri.com
SUMMARY:WWW Spring 2026 Weekend
DESCRIPTION:You don’t want to miss the fun at our May 1-3\, 2026 weekend retreat!\nPlease join us at the beautiful Episcopal Conference Center for our spring weekend.  The registrations will open in early spring but until then\, you can see all fun we had at the October weekend on the schedule page. \nWe’re looking forward to a weekend of relaxing and enriching activities for the Women’s Wilderness Weekend May 1-3 retreat! \nIf you want to receive the weekend information in your email\, contact us at WWWofRI@gmail.com.
URL:https://www.womenswildernessri.com/event/www-spring-may-2026-weekend/
LOCATION:Episcopal Conference Center\, 872 Reservoir Rd\, Pascoag\, RI 02859\, 872 Reservoir Rd\,\, Pascoag\, 02859\, 02859\, United States
ATTACH;FMTTYPE=image/jpeg:https://www.womenswildernessri.com/wp-content/uploads/2025/11/April-2025-Weekend.jpg
ORGANIZER;CN="Women's Wilderness Weekend of RI":MAILTO:WWWofRI@gmail.com
END:VEVENT
BEGIN:VEVENT
DTSTART;TZID=America/New_York:20260607T100000
DTEND;TZID=America/New_York:20260607T130000
DTSTAMP:20260423T172930
CREATED:20251127T004424Z
LAST-MODIFIED:20251127T004424Z
UID:1739-1780826400-1780837200@www.womenswildernessri.com
SUMMARY:WWW June 2026 Board Meeting
DESCRIPTION:Please join us for a potluck!\nWe’ll discuss the May 1-3\, 2026 weekend and start planning the October 16-18\, 2026 weekend. All women are invited to attend and everyone’s input is appreciated. \nThis meeting goes a little longer than usual.  Not only do we have a lot to discuss\, but the real reason is the food. \nWe’ll be meeting at a member’s house for a fun potluck and discussion. If you’d like to attend\, reach out to WWWofRI@gmail.com and we’ll send you the information to join us!
URL:https://www.womenswildernessri.com/event/www-june-2026-board-meeting/
ATTACH;FMTTYPE=image/jpeg:https://www.womenswildernessri.com/wp-content/uploads/2025/11/Volunteers-at-Pollys.jpg
ORGANIZER;CN="Women's Wilderness Weekend of RI":MAILTO:WWWofRI@gmail.com
END:VEVENT
BEGIN:VEVENT
DTSTART;TZID=America/New_York:20260830T100000
DTEND;TZID=America/New_York:20260830T120000
DTSTAMP:20260423T172930
CREATED:20251127T004828Z
LAST-MODIFIED:20260305T194009Z
UID:1742-1788084000-1788091200@www.womenswildernessri.com
SUMMARY:WWW August 2026 Meeting
DESCRIPTION:Please join us while we start planning the October 16-18\, 2026 weekend. \nAll women are invited to attend and everyone’s input is appreciated. \nOur meeting location is Central RI Chamber of Commerce at 3280 Post Road\, Warwick\, RI. If you’d like to attend\, reach out to WWWofRI@gmail.com.
URL:https://www.womenswildernessri.com/event/www-august-2026-meeting/
LOCATION:Central Rhode Island Chamber of Commerce\, 3280 Post Rd\, Warwick\, RI\, 02886\, United States
ATTACH;FMTTYPE=image/jpeg:https://www.womenswildernessri.com/wp-content/uploads/2025/11/March-2026-Board-Meeting.jpg
ORGANIZER;CN="Women's Wilderness Weekend of RI":MAILTO:WWWofRI@gmail.com
END:VEVENT
BEGIN:VEVENT
DTSTART;TZID=America/New_York:20261004T100000
DTEND;TZID=America/New_York:20261004T120000
DTSTAMP:20260423T172930
CREATED:20251127T005116Z
LAST-MODIFIED:20260305T194250Z
UID:1744-1791108000-1791115200@www.womenswildernessri.com
SUMMARY:WWW October 2026 Meeting
DESCRIPTION:Please join us while we put the finishing touches on the October 16-18\, 2026 weekend. \nAll women are invited to attend and everyone’s input is appreciated. \nOur meeting location is Central RI Chamber of Commerce at 3280 Post Road\, Warwick\, RI. If you’d like to attend\, reach out to WWWofRI@gmail.com.
URL:https://www.womenswildernessri.com/event/www-october-2026-meeting/
LOCATION:Central Rhode Island Chamber of Commerce\, 3280 Post Rd\, Warwick\, RI\, 02886\, United States
ATTACH;FMTTYPE=image/jpeg:https://www.womenswildernessri.com/wp-content/uploads/2025/11/March-2026-Board-Meeting.jpg
ORGANIZER;CN="Women's Wilderness Weekend of RI":MAILTO:WWWofRI@gmail.com
END:VEVENT
BEGIN:VEVENT
DTSTART;TZID=America/New_York:20261016T170000
DTEND;TZID=America/New_York:20261018T140000
DTSTAMP:20260423T172930
CREATED:20251127T011232Z
LAST-MODIFIED:20251127T011232Z
UID:1751-1792170000-1792332000@www.womenswildernessri.com
SUMMARY:WWW Fall 2026 Weekend
DESCRIPTION:You don’t want to miss the fun at our October 16-18\, 2026 weekend retreat!\nPlease join us at the beautiful Episcopal Conference Center for our fall weekend.  The registrations will open in late summer but until then\, you can see all fun we had at the past weekend on the schedule page. \nWe’re looking forward to a weekend of relaxing and enriching activities for the Women’s Wilderness Weekend October 16-18 retreat! \nIf you want to receive the weekend information in your email\, contact us at WWWofRI@gmail.com.
URL:https://www.womenswildernessri.com/event/www-fall-2026-weekend/
LOCATION:Episcopal Conference Center\, 872 Reservoir Rd\, Pascoag\, RI 02859\, 872 Reservoir Rd\,\, Pascoag\, 02859\, 02859\, United States
ATTACH;FMTTYPE=image/jpeg:https://www.womenswildernessri.com/wp-content/uploads/2025/11/October-2025-Weekend-scaled.jpg
ORGANIZER;CN="Women's Wilderness Weekend of RI":MAILTO:WWWofRI@gmail.com
END:VEVENT
BEGIN:VEVENT
DTSTART;TZID=America/New_York:20261115T100000
DTEND;TZID=America/New_York:20261115T130000
DTSTAMP:20260423T172930
CREATED:20251127T005523Z
LAST-MODIFIED:20251127T005523Z
UID:1746-1794736800-1794747600@www.womenswildernessri.com
SUMMARY:WWW November 2026 Board Meeting
DESCRIPTION:Please join us for a potluck!\nWe’ll discuss the October 16-18\, 2026 weekend and start planning the April 30-May 2\, 2027 weekend. \nAll women are invited to attend and everyone’s input is appreciated. \nThis meeting goes a little longer than usual.  Not only do we have a lot to discuss\, but the real reason is the food. \nWe’ll be meeting at a member’s house for a fun potluck and discussion. If you’d like to attend\, reach out to WWWofRI@gmail.com and we’ll send you the information to join us!
URL:https://www.womenswildernessri.com/event/www-november-2026-board-meeting/
ATTACH;FMTTYPE=image/jpeg:https://www.womenswildernessri.com/wp-content/uploads/2025/11/Volunteers-at-Pollys.jpg
ORGANIZER;CN="Women's Wilderness Weekend of RI":MAILTO:WWWofRI@gmail.com
END:VEVENT
BEGIN:VEVENT
DTSTART;TZID=America/New_York:20270430T050000
DTEND;TZID=America/New_York:20270502T140000
DTSTAMP:20260423T172930
CREATED:20251127T011618Z
LAST-MODIFIED:20251127T011618Z
UID:1754-1809061200-1809266400@www.womenswildernessri.com
SUMMARY:WWW Spring 2027 Weekend
DESCRIPTION:You don’t want to miss the fun at our April 30-May 2\, 2027 weekend retreat!\nPlease join us at the beautiful Episcopal Conference Center for our spring weekend.  The registrations will open in early spring but until then\, you can see all fun we had at the past weekend on the schedule page. \nWe’re looking forward to a weekend of relaxing and enriching activities for the Women’s Wilderness Weekend April 30-May 2 retreat! \nIf you want to receive the weekend information in your email\, contact us at WWWofRI@gmail.com.
URL:https://www.womenswildernessri.com/event/www-spring-2027-weekend/
LOCATION:Episcopal Conference Center\, 872 Reservoir Rd\, Pascoag\, RI 02859\, 872 Reservoir Rd\,\, Pascoag\, 02859\, 02859\, United States
ATTACH;FMTTYPE=image/jpeg:https://www.womenswildernessri.com/wp-content/uploads/2025/11/April-2025-Weekend.jpg
ORGANIZER;CN="Women's Wilderness Weekend of RI":MAILTO:WWWofRI@gmail.com
END:VEVENT
BEGIN:VEVENT
DTSTART;TZID=America/New_York:20271015T170000
DTEND;TZID=America/New_York:20271017T140000
DTSTAMP:20260423T172930
CREATED:20251127T012053Z
LAST-MODIFIED:20251127T012206Z
UID:1756-1823619600-1823781600@www.womenswildernessri.com
SUMMARY:WWW Fall 2027 Weekend
DESCRIPTION:You don’t want to miss the fun at our October 15-17\, 2027 weekend retreat!\nPlease join us at the beautiful Episcopal Conference Center for our fall weekend.  The registrations will open in late summer but until then\, you can see all fun we had at the past weekend on the schedule page. \nWe’re looking forward to a weekend of relaxing and enriching activities for the Women’s Wilderness Weekend October 15-17 retreat! \nIf you want to receive the weekend information in your email\, contact us at WWWofRI@gmail.com.
URL:https://www.womenswildernessri.com/event/www-fall-2027-weekend/
LOCATION:Episcopal Conference Center\, 872 Reservoir Rd\, Pascoag\, RI 02859\, 872 Reservoir Rd\,\, Pascoag\, 02859\, 02859\, United States
ATTACH;FMTTYPE=image/jpeg:https://www.womenswildernessri.com/wp-content/uploads/2025/11/October-2025-Weekend-scaled.jpg
ORGANIZER;CN="Women's Wilderness Weekend of RI":MAILTO:WWWofRI@gmail.com
END:VEVENT
END:VCALENDAR