BEGIN:VCALENDAR
VERSION:2.0
PRODID:-//Women&#039;s Wilderness Weekend of RI - ECPv6.15.20//NONSGML v1.0//EN
CALSCALE:GREGORIAN
METHOD:PUBLISH
X-ORIGINAL-URL:https://www.womenswildernessri.com
X-WR-CALDESC:Events for Women&#039;s Wilderness Weekend of RI
REFRESH-INTERVAL;VALUE=DURATION:PT1H
X-Robots-Tag:noindex
X-PUBLISHED-TTL:PT1H
BEGIN:VTIMEZONE
TZID:America/New_York
BEGIN:DAYLIGHT
TZOFFSETFROM:-0500
TZOFFSETTO:-0400
TZNAME:EDT
DTSTART:20220313T070000
END:DAYLIGHT
BEGIN:STANDARD
TZOFFSETFROM:-0400
TZOFFSETTO:-0500
TZNAME:EST
DTSTART:20221106T060000
END:STANDARD
BEGIN:DAYLIGHT
TZOFFSETFROM:-0500
TZOFFSETTO:-0400
TZNAME:EDT
DTSTART:20230312T070000
END:DAYLIGHT
BEGIN:STANDARD
TZOFFSETFROM:-0400
TZOFFSETTO:-0500
TZNAME:EST
DTSTART:20231105T060000
END:STANDARD
BEGIN:DAYLIGHT
TZOFFSETFROM:-0500
TZOFFSETTO:-0400
TZNAME:EDT
DTSTART:20240310T070000
END:DAYLIGHT
BEGIN:STANDARD
TZOFFSETFROM:-0400
TZOFFSETTO:-0500
TZNAME:EST
DTSTART:20241103T060000
END:STANDARD
BEGIN:DAYLIGHT
TZOFFSETFROM:-0500
TZOFFSETTO:-0400
TZNAME:EDT
DTSTART:20250309T070000
END:DAYLIGHT
BEGIN:STANDARD
TZOFFSETFROM:-0400
TZOFFSETTO:-0500
TZNAME:EST
DTSTART:20251102T060000
END:STANDARD
END:VTIMEZONE
BEGIN:VTIMEZONE
TZID:UTC
BEGIN:STANDARD
TZOFFSETFROM:+0000
TZOFFSETTO:+0000
TZNAME:UTC
DTSTART:20180101T000000
END:STANDARD
END:VTIMEZONE
BEGIN:VTIMEZONE
TZID:Asia/Dubai
BEGIN:STANDARD
TZOFFSETFROM:+0400
TZOFFSETTO:+0400
TZNAME:+04
DTSTART:20220101T000000
END:STANDARD
END:VTIMEZONE
BEGIN:VTIMEZONE
TZID:America/Halifax
BEGIN:DAYLIGHT
TZOFFSETFROM:-0400
TZOFFSETTO:-0300
TZNAME:ADT
DTSTART:20220313T060000
END:DAYLIGHT
BEGIN:STANDARD
TZOFFSETFROM:-0300
TZOFFSETTO:-0400
TZNAME:AST
DTSTART:20221106T050000
END:STANDARD
BEGIN:DAYLIGHT
TZOFFSETFROM:-0400
TZOFFSETTO:-0300
TZNAME:ADT
DTSTART:20230312T060000
END:DAYLIGHT
BEGIN:STANDARD
TZOFFSETFROM:-0300
TZOFFSETTO:-0400
TZNAME:AST
DTSTART:20231105T050000
END:STANDARD
BEGIN:DAYLIGHT
TZOFFSETFROM:-0400
TZOFFSETTO:-0300
TZNAME:ADT
DTSTART:20240310T060000
END:DAYLIGHT
BEGIN:STANDARD
TZOFFSETFROM:-0300
TZOFFSETTO:-0400
TZNAME:AST
DTSTART:20241103T050000
END:STANDARD
END:VTIMEZONE
BEGIN:VEVENT
DTSTART;TZID=America/New_York:20240602T100000
DTEND;TZID=America/New_York:20240602T120000
DTSTAMP:20260423T174128
CREATED:20231023T185450Z
LAST-MODIFIED:20231023T190323Z
UID:1180-1717322400-1717329600@www.womenswildernessri.com
SUMMARY:WWW June 2024 Board Meeting
DESCRIPTION:Join us as we review the May weekend\, take stock of what worked and what we want to add to the next event in October. Any woman is welcome and all input is encouraged. \nOur meeting will be held at a member’s house. If you’d like to attend\, reach out to WWWofRI@gmail.com and we’ll send you info on how to meet up!
URL:https://www.womenswildernessri.com/event/www-june-2024-board-meeting/
ATTACH;FMTTYPE=image/png:https://www.womenswildernessri.com/wp-content/uploads/2020/03/Womens-Wilderness-Weekend-RI-Board-Meeting.png
ORGANIZER;CN="Women's Wilderness Weekend of RI":MAILTO:WWWofRI@gmail.com
END:VEVENT
BEGIN:VEVENT
DTSTART;TZID=America/New_York:20240503T170000
DTEND;TZID=America/New_York:20240503T170000
DTSTAMP:20260423T174128
CREATED:20231023T190138Z
LAST-MODIFIED:20231023T190320Z
UID:1182-1714755600-1714755600@www.womenswildernessri.com
SUMMARY:WWW May 2024 Weekend
DESCRIPTION:Let’s keep the fun going with our May 3-5\, 2024 weekend retreat!  Please join us at the beautiful Episcopal Conference Center for our spring weekend.  Weekend information and registrations will be open in the late winter as we have a lot of planning to do first.  We’re looking forward to a weekend of relaxing and enriching activities for the Women’s Wilderness Weekend May 3 retreat! \nIf you want to receive the weekend information in your email as soon as it’s ready\, contact us at WWWofRI@gmail.com.
URL:https://www.womenswildernessri.com/event/www-may-2024-weekend/
LOCATION:Episcopal Conference Center\, 872 Reservoir Rd\, Pascoag\, RI 02859\, 872 Reservoir Rd\,\, Pascoag\, 02859\, 02859\, United States
ATTACH;FMTTYPE=image/jpeg:https://www.womenswildernessri.com/wp-content/uploads/2023/05/WWW-Fall-2019.jpg
ORGANIZER;CN="Women's Wilderness Weekend of RI":MAILTO:WWWofRI@gmail.com
END:VEVENT
BEGIN:VEVENT
DTSTART;TZID=America/New_York:20240421T150000
DTEND;TZID=America/New_York:20240421T170000
DTSTAMP:20260423T174128
CREATED:20240422T183732Z
LAST-MODIFIED:20260127T205405Z
UID:1293-1713711600-1713718800@www.womenswildernessri.com
SUMMARY:April 2024 Book Club Meeting
DESCRIPTION:Our second book club event will be discussing Braiding Sweetgrass by Robin Wall Kimmerer.  Please reach out to Jessy at jessyjakul@gmail.com to be included. All details can be found in the blog post linked to this event.
URL:https://www.womenswildernessri.com/event/book-club-meeting/
CATEGORIES:Book Club
ATTACH;FMTTYPE=image/jpeg:https://www.womenswildernessri.com/wp-content/uploads/2024/02/Book-Club-2024-April-Braiding-Sweetgrass-Cover.jpeg
ORGANIZER;CN="Women's Wilderness Weekend of RI":MAILTO:WWWofRI@gmail.com
END:VEVENT
BEGIN:VEVENT
DTSTART;TZID=America/New_York:20240407T100000
DTEND;TZID=America/New_York:20240407T113000
DTSTAMP:20260423T174128
CREATED:20231023T185242Z
LAST-MODIFIED:20231023T185242Z
UID:1178-1712484000-1712489400@www.womenswildernessri.com
SUMMARY:WWW April 2024 Board Meeting
DESCRIPTION:Join us as we plan the May weekend. Any woman is welcome and all input is encouraged. \nOur meeting location is TBD. If you’d like to attend\, reach out to WWWofRI@gmail.com and we’ll send you info on how to meet up!
URL:https://www.womenswildernessri.com/event/www-april-2024-board-meeting/
ATTACH;FMTTYPE=image/png:https://www.womenswildernessri.com/wp-content/uploads/2020/03/Womens-Wilderness-Weekend-RI-Board-Meeting.png
ORGANIZER;CN="Women's Wilderness Weekend of RI":MAILTO:WWWofRI@gmail.com
END:VEVENT
BEGIN:VEVENT
DTSTART;TZID=America/New_York:20240303T100000
DTEND;TZID=America/New_York:20240303T113000
DTSTAMP:20260423T174128
CREATED:20231023T184922Z
LAST-MODIFIED:20231023T184922Z
UID:1174-1709460000-1709465400@www.womenswildernessri.com
SUMMARY:WWW March 2024 Board Meeting
DESCRIPTION:Join us as we plan the May weekend. Any woman is welcome and all input is encouraged. \nOur meeting location is TBD. If you’d like to attend\, reach out to WWWofRI@gmail.com and we’ll send you info on how to meet up!
URL:https://www.womenswildernessri.com/event/www-march-2024-board-meeting/
ATTACH;FMTTYPE=image/png:https://www.womenswildernessri.com/wp-content/uploads/2020/03/Womens-Wilderness-Weekend-RI-Board-Meeting.png
ORGANIZER;CN="Women's Wilderness Weekend of RI":MAILTO:WWWofRI@gmail.com
END:VEVENT
BEGIN:VEVENT
DTSTART;TZID=America/New_York:20240225T150000
DTEND;TZID=America/New_York:20240225T170000
DTSTAMP:20260423T174128
CREATED:20240223T192634Z
LAST-MODIFIED:20260127T205434Z
UID:1220-1708873200-1708880400@www.womenswildernessri.com
SUMMARY:Inaugural Book Club Meeting
DESCRIPTION:We’re excited to be holding our first book club event!  The meeting location is at a member’s home so contact Jessy at jessyjakul@gmail.com to be included.  All details can be found in the blog post linked to this event.
URL:https://www.womenswildernessri.com/event/inaugural-book-club-meeting/
CATEGORIES:Book Club
ATTACH;FMTTYPE=image/jpeg:https://www.womenswildernessri.com/wp-content/uploads/2024/01/The-Light-We-Carry-Michelle-Obama.jpg
ORGANIZER;CN="Women's Wilderness Weekend of RI":MAILTO:WWWofRI@gmail.com
END:VEVENT
BEGIN:VEVENT
DTSTART;TZID=America/New_York:20231105T100000
DTEND;TZID=America/New_York:20231105T120000
DTSTAMP:20260423T174128
CREATED:20231023T184427Z
LAST-MODIFIED:20231023T184943Z
UID:1170-1699178400-1699185600@www.womenswildernessri.com
SUMMARY:WWW November 2023 Board Meeting
DESCRIPTION:Join us as we review the October weekend\, take stock of what worked and what we want to add to the next event in May 2024. Any woman is welcome and all input is encouraged. \nOur meeting will be held at a member’s house. If you’d like to attend\, reach out at WWWofRI@gmail.com and we’ll send you info on how to meet up!
URL:https://www.womenswildernessri.com/event/www-november-2023-board-meeting/
ATTACH;FMTTYPE=image/png:https://www.womenswildernessri.com/wp-content/uploads/2020/03/Womens-Wilderness-Weekend-RI-Board-Meeting.png
ORGANIZER;CN="Women's Wilderness Weekend of RI":MAILTO:WWWofRI@gmail.com
END:VEVENT
BEGIN:VEVENT
DTSTART;TZID=America/New_York:20231020T170000
DTEND;TZID=America/New_York:20231022T140000
DTSTAMP:20260423T174128
CREATED:20230517T203227Z
LAST-MODIFIED:20230517T203546Z
UID:1101-1697821200-1697983200@www.womenswildernessri.com
SUMMARY:WWW October 2023 Weekend
DESCRIPTION:Women’s retreat Women’s Wilderness Weekend of RI is coming up October 20-22 at the the Episcopal Conference Center in Pascoag\, RI. \nOur welcome back weekend in May was a huge success so let’s keep that rolling for our October 20-22 weekend retreat!  Please join us at the beautiful Episcopal Conference Center for our fall weekend.  Weekend information and registrations will be open in the late summer as we have a lot of planning to do first.  We’re looking forward to a weekend of relaxing and enriching activities for the Women’s Wilderness Weekend October 20 retreat! \nIf you want to receive the weekend information in your email as soon as it’s ready\, contact us at WWWofRI@gmail.com.
URL:https://www.womenswildernessri.com/event/www-october-2023-weekend/
LOCATION:Episcopal Conference Center\, 872 Reservoir Rd\, Pascoag\, RI 02859\, 872 Reservoir Rd\,\, Pascoag\, 02859\, 02859\, United States
ATTACH;FMTTYPE=image/jpeg:https://www.womenswildernessri.com/wp-content/uploads/2023/05/WWW-Fall-2019.jpg
ORGANIZER;CN="Women's Wilderness Weekend of RI":MAILTO:WWWofRI@gmail.com
END:VEVENT
BEGIN:VEVENT
DTSTART;TZID=UTC:20230604T100000
DTEND;TZID=UTC:20230604T120000
DTSTAMP:20260423T174128
CREATED:20230313T060420Z
LAST-MODIFIED:20231023T184729Z
UID:459-1685872800-1685880000@www.womenswildernessri.com
SUMMARY:WWW June 2023 Board Meeting
DESCRIPTION:Join us as we review the May weekend\, take stock of what worked and what we want to add to the next event in October. Any woman is welcome and all input is encouraged. \nOur meeting will be held at a member’s house. If you’d like to attend\, reach out at WWWofRI@gmail.com and we’ll send you info on how to meet up!
URL:https://www.womenswildernessri.com/event/www-june-board-meeting/
ATTACH;FMTTYPE=image/png:https://www.womenswildernessri.com/wp-content/uploads/2020/03/Womens-Wilderness-Weekend-RI-Board-Meeting.png
ORGANIZER;CN="Women's Wilderness Weekend of RI":MAILTO:WWWofRI@gmail.com
END:VEVENT
BEGIN:VEVENT
DTSTART;TZID=Asia/Dubai:20230505T170000
DTEND;TZID=Asia/Dubai:20230507T140000
DTSTAMP:20260423T174128
CREATED:20230313T045059Z
LAST-MODIFIED:20230313T055240Z
UID:899-1683306000-1683468000@www.womenswildernessri.com
SUMMARY:WWW May 2023 Weekend
DESCRIPTION:Women’s retreat Women’s Wilderness Weekend of RI is coming up May 5-7 at the the Episcopal Conference Center in Pascoag\, RI. \nAfter a long three and a half years\, WE’RE BACK!!! Please join us at the beautiful Episcopal Conference Center for our spring weekend. Registration is open\, and a schedule of the relaxing and enriching activities we have planned for the Women’s Wilderness Weekend May 5 retreat is posted on our website. If you want to receive the weekend information in your email as soon as it’s ready\, contact us at WWWofRI@gmail.com.
URL:https://www.womenswildernessri.com/event/www-may-2023-weekend/
LOCATION:Episcopal Conference Center\, 872 Reservoir Rd\, Pascoag\, RI 02859\, 872 Reservoir Rd\,\, Pascoag\, 02859\, 02859\, United States
ATTACH;FMTTYPE=image/jpeg:https://www.womenswildernessri.com/wp-content/uploads/2023/03/May-2019-Group-Photo.jpg
ORGANIZER;CN="Women's Wilderness Weekend of RI":MAILTO:WWWofRI@gmail.com
END:VEVENT
BEGIN:VEVENT
DTSTART;TZID=America/Halifax:20230402T100000
DTEND;TZID=America/Halifax:20230402T120000
DTSTAMP:20260423T174128
CREATED:20230315T015453Z
LAST-MODIFIED:20230315T015453Z
UID:946-1680429600-1680436800@www.womenswildernessri.com
SUMMARY:WWW April 2023 Board Meeting
DESCRIPTION:Join us as we put the finishing touches on the May 5-7 weekend planning. Any woman is welcome and all input is encouraged. \nWe’re meeting at the Bean Barn in Coventry.  You can order breakfast\, if you’d like\, and join us in the private room in the front.
URL:https://www.womenswildernessri.com/event/www-april-2023-board-meeting/
LOCATION:Bean Barn\, 599 Tiogue Avenue\, Coventry\, RI\, 02816\, United States
ATTACH;FMTTYPE=image/png:https://www.womenswildernessri.com/wp-content/uploads/2020/03/Womens-Wilderness-Weekend-RI-Board-Meeting.png
END:VEVENT
BEGIN:VEVENT
DTSTART;TZID=UTC:20210522T103000
DTEND;TZID=UTC:20210522T160000
DTSTAMP:20260423T174128
CREATED:20210521T021530Z
LAST-MODIFIED:20210521T021530Z
UID:733-1621679400-1621699200@www.womenswildernessri.com
SUMMARY:Tri-State Hike & Flower Essence May 22
DESCRIPTION:Women’s Wilderness Weekend has a tri-state hike May 22\, 10:30 a.m. to the point where RI\, CT and MA meet\, capped with a flower essence workshop nearby in Pascoag\, RI and Bring Your Own Sandwich (BYOS) lunch. \nAll women 18+ are invited to join the group at 652 E Thompson Rd\, Thompson\, CT. \nThe hike has options for beginner and moderate hikers\, allowing less ambitious walkers to complete a 1.7 mile while those with the energy can go a full 3.5 mile tri-state hike circuit. \nAfter the hike\, the group will drive to Jenza’s Garden\, South Main St.\, Pascoag\, RI 02859 for the BYOS picnic lunch and a beginners guide to Flower Essences: What are they? How do you use them? \nJenn of Jenza’s Garden has been making flower essences for several years and she will answer all these questions and more. There will be a small $10 fee for this class and flower essences will be available at a special rate. \n\nFor questions\, or to R.S.V.P.\, call (401-213-9699) or email WWWofRI@gmail.com\nAll women 18+ are invited to our event.\nThis is the tail end of hunting season\, so please wear an orange hat or vest.  We will have some orange vests to borrow and some hats for sale.  We’ll also ask everyone to sign our waiver before we head out.\nCome for all or part of the day. Just let us know when we should expect you. We look forward to seeing you on the 22nd
URL:https://www.womenswildernessri.com/event/tri-state-hike-flower-essence-may-22/
LOCATION:652 E Thompson Rd\, Thompson\, CT.\, 652 E Thompson Rd\, Thompson\, CT\, 06277\, United States
ORGANIZER;CN="Women's Wilderness Weekend of RI":MAILTO:WWWofRI@gmail.com
END:VEVENT
BEGIN:VEVENT
DTSTART;TZID=UTC:20201115T180000
DTEND;TZID=UTC:20201115T193000
DTSTAMP:20260423T174128
CREATED:20200331T034056Z
LAST-MODIFIED:20230313T055748Z
UID:460-1605463200-1605468600@www.womenswildernessri.com
SUMMARY:WWW November 2020 Board Meeting
DESCRIPTION:Join us as discuss our recent events and plan others. Any woman is welcome and all input is encouraged.\n \nWe’ll meet virtually using Google Meet – https://meet.google.com/hmd-ncqb-vvz\n \nThis will be our last meeting until March 2021. There will be discussion of the April 2021 weekend too.
URL:https://www.womenswildernessri.com/event/www-november-2020-board-meeting/
END:VEVENT
BEGIN:VEVENT
DTSTART;TZID=UTC:20201018T090000
DTEND;TZID=UTC:20201018T153000
DTSTAMP:20260423T174128
CREATED:20201004T084541Z
LAST-MODIFIED:20260218T021243Z
UID:620-1603011600-1603035000@www.womenswildernessri.com
SUMMARY:Women's Wilderness Labyrinth Walk/Hike/Craft Day
DESCRIPTION:A Women’s Labyrinth Walk and Craft Day will be hosted Oct. 18 at 80 Division Road West Greenwich\, RI by Women’s Wilterness Weekend of Rhode Island.  \n\n\nDue to the forecast of rain into Saturday\, we’ve moved the event to the rain date of Sunday\, October 18th. The forecast for Sunday looks like perfect fall weather.\n.\nLadies 18-years-old and over only\, please join us for a day of socially distant fun. This would have been the Saturday of our cancelled weekend retreat\, so we’re bringing some of our fun to a day event.  This event is free\, but we ask for $5 for the craft to cover supplies.  The events are spaced out so you can participate in all or some of them.\n.\n9:00am – Labyrinth walk\n10:30am – Leisurely hike\n11:30am – Lunch\n12:30pm – Craft\n2:00pm – Hike\n.\nBring a chair and be sure to bring your lunch\, snacks\, and plenty of water. Due to Covid-19 concerns\, participants must bring their own food and drinks. As with all our events\, this is a drug and alcohol free event.\n.\nWe’ll be outside all day so be sure to wear proper clothing and footwear.  Fluorescent orange must be worn.  We’ll have some vests to borrow and some hats to purchase.\n.\nThere are no bathrooms but there are a couple fast food restaurants one mile away if you need facilities.\n.\nDon’t forget your mask!\n.\nPut the address below into your GPS or use these directions:\nTake Exit 6A off Route 95\n– From the South\, take a right off the exit\n– From the North\, take a left off the exit\nAt the four-way stop\, make a left\nOur event is 1/2 mile down on the right. You’ll see a small parking area and also street parking.\nIt is diagonally across from R.I. Aeromodelers.\n.\nRain Date – Sunday\, October 18th\n.\nFor questions\, or to R.S.V.P.\, call (401-213-9699) or email WWWofRI@gmail.com\n.\nWe look forward to seeing you on the 18th.
URL:https://www.womenswildernessri.com/event/womens-wilderness-labyrinth-walk-hike-craft-day/
LOCATION:Labyrinth in the Woods\, 80 Division Road\, West Greenwich\, RI\, 02817\, United States
END:VEVENT
BEGIN:VEVENT
DTSTART;TZID=UTC:20201004T180000
DTEND;TZID=UTC:20201004T193000
DTSTAMP:20260423T174128
CREATED:20200331T033437Z
LAST-MODIFIED:20230313T060514Z
UID:457-1601834400-1601839800@www.womenswildernessri.com
SUMMARY:WWW October 2020 Board Meeting
DESCRIPTION:Join us as we plan socially distant events for the fall. Any woman is welcome and all input is encouraged.\n\nWe’ll meet virtually using Google Meet – https://meet.google.com/fbh-cvbk-uoa
URL:https://www.womenswildernessri.com/event/www-october-2020-board-meeting/
END:VEVENT
BEGIN:VEVENT
DTSTART;TZID=UTC:20200920T100000
DTEND;TZID=UTC:20200920T123000
DTSTAMP:20260423T174128
CREATED:20200807T071053Z
LAST-MODIFIED:20200905T084900Z
UID:510-1600596000-1600605000@www.womenswildernessri.com
SUMMARY:Women's Wilderness Kayak Trip
DESCRIPTION:Three ladies enjoying the peace and tranquility of kayaking.  \nLadies only. Please join the ladies from Women’s Wilderness Weekend of RI for a guided eco tour with Narrow River Kayaks. The cost is $45 per person and all equipment is provided. If you’d like to bring your own equipment\, you’ll receive a $10 discount. Payments will be made at the event\, so please confirm with us to let us know you’re coming\, as there is a required minimum of 6 ladies. No prior paddling experience is necessary. \nThe trip starts at 10am. After brief instruction and orientation\, paddlers set off on an approximately 2.5-3 hour round-trip tour of the lower portion of the Pettaquamscutt Watershed\, commonly known as “Narrow River”.  A Master Naturalist will lead paddlers through either the kettle ponds at the head of the watershed or salt marsh of the John H. Chaffee National Wildlife Refuge.  As you explore the tidal flats and estuary\, witness firsthand what lives in the watershed formed by the last receding ice sheet over 19\,000 years ago and what makes is so unique.  Hear about past\, present\, and future concerns for the watershed and efforts being made to preserve the ecosystem. \nTHINGS YOU MAY WANT TO BRING:\nHat\, Sunglasses\, Sunscreen\, Footwear (water shoes\, neoprene boots\, etc.)\, Bathing Suit & Towel\, Lightweight Fast-drying Clothing\, Change of Clothing\, Water Bottle\, Drybag and/or Waterproof Phone Case\, Snack or Lunch  (If you forget something or need something when you get arrive\, they have things available for purchase.) \nBe prepared to get wet\, this is a watersport! Leave no trace. Take out what you take in! \nPortable Restrooms\, Changing Tents\, Cold Freshwater Shower/Foot Rinse\, and Picnic Tables on site. \nA waiver/release form must be completed by all participants and can be filled out at the event. Bring a mask and be prepared to be socially distant. \n\n\nContact us at WWWofRI@gmail.com to RSVP.
URL:https://www.womenswildernessri.com/event/womens-wilderness-kayak-trip/
LOCATION:Narrow River Kayaks\, 94 Middlebridge Road\, Narragansett\, RI\, 02882\, United States
END:VEVENT
BEGIN:VEVENT
DTSTART;TZID=UTC:20200913T180000
DTEND;TZID=UTC:20200913T193000
DTSTAMP:20260423T174128
CREATED:20200331T033231Z
LAST-MODIFIED:20230313T055920Z
UID:455-1600020000-1600025400@www.womenswildernessri.com
SUMMARY:WWW September 2020 Board Meeting
DESCRIPTION:Join us as we discuss some socially distant events for the fall. Any woman is welcome and all input is encouraged.\n\nWe’ll meet virtually using Google Meet – https://meet.google.com/mbs-ysad-sbd
URL:https://www.womenswildernessri.com/event/www-september-2020-board-meeting-2/
END:VEVENT
BEGIN:VEVENT
DTSTART;TZID=UTC:20200517T180000
DTEND;TZID=UTC:20200517T193000
DTSTAMP:20260423T174128
CREATED:20200331T032746Z
LAST-MODIFIED:20230313T060117Z
UID:452-1589738400-1589743800@www.womenswildernessri.com
SUMMARY:WWW May 2020 Board Meeting
DESCRIPTION:Join us as we start planning the October weekend and discuss possibilities of one day events and hikes between now and then. Any woman is welcome and all input is encouraged. \nWe meet in the conference room of the Women’s Imaging Center at Kent County Hospital in Warwick\, RI. Go into the Women’s Imaging Center\, to the left of the ER entrance\, and go all the way to the left. The conference room is on the left. \nNote – if we aren’t able to meet in person\, we’ll have a virtual meeting. Info on that will be provided if necessary. \nKent County Hospital’s address – 455 Toll Gate Rd\, Warwick\, RI 02886
URL:https://www.womenswildernessri.com/event/www-may-2020-board-meeting/
LOCATION:Kent County Hospital\, 455 Toll Gate Rd\,\, Warwick\, Warwick\, RI 02886\, United States
END:VEVENT
BEGIN:VEVENT
DTSTART;TZID=UTC:20200216T140000
DTEND;TZID=UTC:20200216T160000
DTSTAMP:20260423T174128
CREATED:20200213T085340Z
LAST-MODIFIED:20200214T091152Z
UID:422-1581861600-1581868800@www.womenswildernessri.com
SUMMARY:A Gathering of Ladies for a Hike
DESCRIPTION:Please join us for a hike in the Big River Management Area in West Greenwich\, RI. The location address will put you at the parking lot where we’ll meet. \nWe’ll take a leisurely hike through the woods and enjoy each other’s company. Be sure to wear at least an orange hat\, as is required until the end of February. We will have some vests if you forget. As always on a hike\, proper footwear is a must and bring a water bottle too. \nYou can ask questions about this event and see others’ comments about it on our Facebook page.
URL:https://www.womenswildernessri.com/event/a-gathering-of-ladies-for-a-hike/
LOCATION:Big River Management Area\, pin 1 Burnt Sawmill Road\, West Greenwich\, 02817\, United States
ATTACH;FMTTYPE=image/jpeg:https://www.womenswildernessri.com/wp-content/uploads/2020/02/Womens-Wilderness-Hike.jpg
END:VEVENT
BEGIN:VEVENT
DTSTART;TZID=UTC:20191020T180000
DTEND;TZID=UTC:20191020T193000
DTSTAMP:20260423T174128
CREATED:20190904T235716Z
LAST-MODIFIED:20230313T055641Z
UID:381-1571594400-1571599800@www.womenswildernessri.com
SUMMARY:WWW October 2019 Board Meeting
DESCRIPTION:Join us as we review the October weekend and start to plan the April 2020 weekend during our next meeting. We’ll be going over the responses to the October weekend evaluations\, which helps us in planning future weekends. \nAny woman is welcome and all input is encouraged. \nWe meet in the conference room of the Women’s Imaging Center at Kent County Hospital in Warwick\, RI. Go into the Women’s Imaging Center\, to the left of the ER entrance\, and go all the way to the left. The conference room is on the left. \nKent County Hospital’s address – 455 Toll Gate Rd\, Warwick\, RI 02886 \nThis will be our last meeting until March 8\, 2020.
URL:https://www.womenswildernessri.com/event/www-october-board-meeting/
LOCATION:Kent County Hospital\, 455 Toll Gate Rd\,\, Warwick\, Warwick\, RI 02886\, United States
ATTACH;FMTTYPE=image/png:https://www.womenswildernessri.com/wp-content/uploads/2019/09/Kent-Hospital-Womenss-Wilderness-Weekend-1.png
END:VEVENT
BEGIN:VEVENT
DTSTART;TZID=UTC:20191004T170000
DTEND;TZID=UTC:20191006T140000
DTSTAMP:20260423T174128
CREATED:20190904T231846Z
LAST-MODIFIED:20230313T033213Z
UID:373-1570208400-1570370400@www.womenswildernessri.com
SUMMARY:WWW October 2019 Weekend
DESCRIPTION:Women’s retreat Women’s Wilderness Weekend of RI is coming up October 4-6 at the the Episcopal Conference Center in Pascoag\, RI. \n\nPlease join us at the beautiful Episcopal Conference Center for our fall weekend. Registration is open\, and a schedule of the relaxing and enriching activities we have planned for the Women’s Wilderness Weekend Oct. 4 retreat is posted on our website.\n\nIf you want to receive the weekend information in your email as soon as it’s ready\, contact us at WWWofRI@gmail.com.
URL:https://www.womenswildernessri.com/event/www-october-2019-weekend/
LOCATION:Episcopal Conference Center\, 872 Reservoir Rd\, Pascoag\, RI 02859\, 872 Reservoir Rd\,\, Pascoag\, 02859\, 02859\, United States
ATTACH;FMTTYPE=image/jpeg:https://www.womenswildernessri.com/wp-content/uploads/2019/03/Womens-Wilderness-Weekend-Episcopal-Conference-Center-RI.jpg
END:VEVENT
BEGIN:VEVENT
DTSTART;TZID=UTC:20190908T180000
DTEND;TZID=UTC:20190908T193000
DTSTAMP:20260423T174128
CREATED:20190904T235226Z
LAST-MODIFIED:20230313T060220Z
UID:378-1567965600-1567971000@www.womenswildernessri.com
SUMMARY:WWW September 2019 Board Meeting
DESCRIPTION:Join us as we plan the October weekend during our next meeting. Any woman is welcome and all input is encouraged. \nWe meet in the conference room of the Women’s Imaging Center at Kent County Hospital in Warwick\, RI. Go into the Women’s Imaging Center\, to the left of the ER entrance\, and go all the way to the left. The conference room is on the left. \nKent County Hospital’s address – 455 Toll Gate Rd\, Warwick\, RI 02886
URL:https://www.womenswildernessri.com/event/www-september-2019-board-meeting/
LOCATION:Kent County Hospital\, 455 Toll Gate Rd\,\, Warwick\, Warwick\, RI 02886\, United States
ATTACH;FMTTYPE=image/png:https://www.womenswildernessri.com/wp-content/uploads/2019/09/Kent-Hospital-Womenss-Wilderness-Weekend.png
END:VEVENT
BEGIN:VEVENT
DTSTART;TZID=UTC:20190510T170000
DTEND;TZID=UTC:20190512T140000
DTSTAMP:20260423T174128
CREATED:20190401T013617Z
LAST-MODIFIED:20190506T183158Z
UID:258-1557507600-1557669600@www.womenswildernessri.com
SUMMARY:WWW May 2019 Weekend
DESCRIPTION:Women’s retreat Women’s Wilderness Weekend of RI is coming up May 10-12 at the the Episcopal Conference Center in Pascoag\, RI.  \nPlease join us at the beautiful Episcopal Conference Center for our spring weekend. Registration is open\, and a schedule of the relaxing and enriching activities we have planned for the Women’s Wilderness Weekend May 10 retreat is posted on our website. \nIf you want to receive the weekend information in your email as soon as it’s ready\, contact us at WWWofRI@gmail.com.
URL:https://www.womenswildernessri.com/event/www-may-2019-weekend/
LOCATION:872 Reservoir Rd Exeter\, RI\, 872 Reservoir Rd\, Pascoag\, RI\, 02859\, United States
ATTACH;FMTTYPE=image/jpeg:https://www.womenswildernessri.com/wp-content/uploads/2019/03/Womens-Wilderness-Weekend-Episcopal-Conference-Center-RI.jpg
END:VEVENT
BEGIN:VEVENT
DTSTART;TZID=UTC:20190414T180000
DTEND;TZID=UTC:20190414T193000
DTSTAMP:20260423T174128
CREATED:20190401T012526Z
LAST-MODIFIED:20230313T060319Z
UID:255-1555264800-1555270200@www.womenswildernessri.com
SUMMARY:WWW April 2019 Board Meeting
DESCRIPTION:The April Women’s Wilderness Weekend of RI meeting is held at Kent Hospital\, 455 Toll Gate Rd\, Warwick\, RI.  \nJoin the board of Women’s Wilderness Weekend as we put the finishing touches on the May 10-12 weekend women’s retreat. \nAny woman is invited and all input is welcome. \nWe meet in the conference room of the Women’s Imaging Center at Kent County Hospital in Warwick\, RI. Go into the Women’s Imaging Center\, to the left of the ER entrance\, and go all the way to the left. The conference room is on the left. \nKent County Hospital’s address – 455 Toll Gate Rd\, Warwick\, RI 02886 \n  \n\n\n\n\n\n\n\n\nSunday\, April 14\, 2019 at 6 PM – 7:30 PM\n\n\n\n\n\n\n\n\n\n\n\n\n\n\n\n\n\n\n\n\n\n\n\nKent County Women’s Imaging Center Conference Room
URL:https://www.womenswildernessri.com/event/www-april-2019-board-meeting/
LOCATION:Kent County Hospital\, 455 Toll Gate Rd\,\, Warwick\, Warwick\, RI 02886\, United States
ATTACH;FMTTYPE=image/jpeg:https://www.womenswildernessri.com/wp-content/uploads/2019/03/kent-hospital-visitor-information.jpg
END:VEVENT
END:VCALENDAR