BEGIN:VCALENDAR
VERSION:2.0
PRODID:-//Women&#039;s Wilderness Weekend of RI - ECPv6.15.20//NONSGML v1.0//EN
CALSCALE:GREGORIAN
METHOD:PUBLISH
X-WR-CALNAME:Women&#039;s Wilderness Weekend of RI
X-ORIGINAL-URL:https://www.womenswildernessri.com
X-WR-CALDESC:Events for Women&#039;s Wilderness Weekend of RI
REFRESH-INTERVAL;VALUE=DURATION:PT1H
X-Robots-Tag:noindex
X-PUBLISHED-TTL:PT1H
BEGIN:VTIMEZONE
TZID:America/New_York
BEGIN:DAYLIGHT
TZOFFSETFROM:-0500
TZOFFSETTO:-0400
TZNAME:EDT
DTSTART:20240310T070000
END:DAYLIGHT
BEGIN:STANDARD
TZOFFSETFROM:-0400
TZOFFSETTO:-0500
TZNAME:EST
DTSTART:20241103T060000
END:STANDARD
BEGIN:DAYLIGHT
TZOFFSETFROM:-0500
TZOFFSETTO:-0400
TZNAME:EDT
DTSTART:20250309T070000
END:DAYLIGHT
BEGIN:STANDARD
TZOFFSETFROM:-0400
TZOFFSETTO:-0500
TZNAME:EST
DTSTART:20251102T060000
END:STANDARD
BEGIN:DAYLIGHT
TZOFFSETFROM:-0500
TZOFFSETTO:-0400
TZNAME:EDT
DTSTART:20260308T070000
END:DAYLIGHT
BEGIN:STANDARD
TZOFFSETFROM:-0400
TZOFFSETTO:-0500
TZNAME:EST
DTSTART:20261101T060000
END:STANDARD
END:VTIMEZONE
BEGIN:VEVENT
DTSTART;TZID=America/New_York:20251102T150000
DTEND;TZID=America/New_York:20251102T170000
DTSTAMP:20260423T204352
CREATED:20250913T030834Z
LAST-MODIFIED:20260127T205219Z
UID:1643-1762095600-1762102800@www.womenswildernessri.com
SUMMARY:November 2025 Book Club Meeting
DESCRIPTION:Our November book club event will be discussing The Women by Kristin Hannah. Please reach out to Jessy at jessyjakul@gmail.com to be included. All details can be found in the blog post linked to this event.
URL:https://www.womenswildernessri.com/event/november-2025-book-club-meeting/
CATEGORIES:Book Club
ATTACH;FMTTYPE=image/jpeg:https://www.womenswildernessri.com/wp-content/uploads/2025/09/The-Women-by-Kristin-Hannah-scaled.jpg
ORGANIZER;CN="Women's Wilderness Weekend of RI":MAILTO:WWWofRI@gmail.com
END:VEVENT
BEGIN:VEVENT
DTSTART;TZID=America/New_York:20251116T100000
DTEND;TZID=America/New_York:20251116T120000
DTSTAMP:20260423T204352
CREATED:20250412T213906Z
LAST-MODIFIED:20250412T213906Z
UID:1559-1763287200-1763294400@www.womenswildernessri.com
SUMMARY:WWW November 2025 Board Meeting
DESCRIPTION:Join us as we discuss the October 17-19 weekend. We will be reviewing the weekend evaluations and use that feedback to plan future weekends. Any woman is welcome and all input is encouraged. \nWe’ll be meeting at a member’s house for a fun potluck and discussion. If you’d like to attend\, reach out to WWWofRI@gmail.com and we’ll send you the information to join us!
URL:https://www.womenswildernessri.com/event/www-november-2025-board-meeting/
ATTACH;FMTTYPE=image/jpeg:https://www.womenswildernessri.com/wp-content/uploads/2024/08/WWW-Board-Volunteers-Nov-2023.jpg
ORGANIZER;CN="Women's Wilderness Weekend of RI":MAILTO:WWWofRI@gmail.com
END:VEVENT
END:VCALENDAR