BEGIN:VCALENDAR
VERSION:2.0
PRODID:-//Women&#039;s Wilderness Weekend of RI - ECPv6.15.20//NONSGML v1.0//EN
CALSCALE:GREGORIAN
METHOD:PUBLISH
X-WR-CALNAME:Women&#039;s Wilderness Weekend of RI
X-ORIGINAL-URL:https://www.womenswildernessri.com
X-WR-CALDESC:Events for Women&#039;s Wilderness Weekend of RI
REFRESH-INTERVAL;VALUE=DURATION:PT1H
X-Robots-Tag:noindex
X-PUBLISHED-TTL:PT1H
BEGIN:VTIMEZONE
TZID:America/New_York
BEGIN:DAYLIGHT
TZOFFSETFROM:-0500
TZOFFSETTO:-0400
TZNAME:EDT
DTSTART:20250309T070000
END:DAYLIGHT
BEGIN:STANDARD
TZOFFSETFROM:-0400
TZOFFSETTO:-0500
TZNAME:EST
DTSTART:20251102T060000
END:STANDARD
BEGIN:DAYLIGHT
TZOFFSETFROM:-0500
TZOFFSETTO:-0400
TZNAME:EDT
DTSTART:20260308T070000
END:DAYLIGHT
BEGIN:STANDARD
TZOFFSETFROM:-0400
TZOFFSETTO:-0500
TZNAME:EST
DTSTART:20261101T060000
END:STANDARD
BEGIN:DAYLIGHT
TZOFFSETFROM:-0500
TZOFFSETTO:-0400
TZNAME:EDT
DTSTART:20270314T070000
END:DAYLIGHT
BEGIN:STANDARD
TZOFFSETFROM:-0400
TZOFFSETTO:-0500
TZNAME:EST
DTSTART:20271107T060000
END:STANDARD
END:VTIMEZONE
BEGIN:VEVENT
DTSTART;TZID=America/New_York:20260830T100000
DTEND;TZID=America/New_York:20260830T120000
DTSTAMP:20260423T184943
CREATED:20251127T004828Z
LAST-MODIFIED:20260305T194009Z
UID:1742-1788084000-1788091200@www.womenswildernessri.com
SUMMARY:WWW August 2026 Meeting
DESCRIPTION:Please join us while we start planning the October 16-18\, 2026 weekend. \nAll women are invited to attend and everyone’s input is appreciated. \nOur meeting location is Central RI Chamber of Commerce at 3280 Post Road\, Warwick\, RI. If you’d like to attend\, reach out to WWWofRI@gmail.com.
URL:https://www.womenswildernessri.com/event/www-august-2026-meeting/
LOCATION:Central Rhode Island Chamber of Commerce\, 3280 Post Rd\, Warwick\, RI\, 02886\, United States
ATTACH;FMTTYPE=image/jpeg:https://www.womenswildernessri.com/wp-content/uploads/2025/11/March-2026-Board-Meeting.jpg
ORGANIZER;CN="Women's Wilderness Weekend of RI":MAILTO:WWWofRI@gmail.com
END:VEVENT
END:VCALENDAR